BEGIN:VCALENDAR
VERSION:2.0
PRODID:-//Oral Pathology 360 - ECPv6.15.18//NONSGML v1.0//EN
CALSCALE:GREGORIAN
METHOD:PUBLISH
X-ORIGINAL-URL:https://oralpathology360.com
X-WR-CALDESC:Events for Oral Pathology 360
REFRESH-INTERVAL;VALUE=DURATION:PT1H
X-Robots-Tag:noindex
X-PUBLISHED-TTL:PT1H
BEGIN:VTIMEZONE
TZID:Asia/Kolkata
BEGIN:STANDARD
TZOFFSETFROM:+0530
TZOFFSETTO:+0530
TZNAME:IST
DTSTART:20210101T000000
END:STANDARD
END:VTIMEZONE
BEGIN:VEVENT
DTSTART;TZID=Asia/Kolkata:20220823T110000
DTEND;TZID=Asia/Kolkata:20220823T120000
DTSTAMP:20260424T182246
CREATED:20220802T114513Z
LAST-MODIFIED:20221205T093622Z
UID:1183-1661252400-1661256000@oralpathology360.com
SUMMARY:Expecting the unexpected-A day at the office
DESCRIPTION:Sometimes oral lesions present with unusual clinical findings and occur with complicated medical history and polypharmacy. \n\n\n\nTime converter at worldtimebuddy.comTime converter at worldtimebuddy.com\n\n\n\n\nDr. Nagamani NarayanaProfessor in Oral pathology at UNMC\,Department of Oral Biology\,College of DentistryUNMC- USA \n\n\n\n\nThis presentation will discuss three cases with an unusual history and presentation.This presentation will discuss1) Description of the lesions\, including clinical signs and symptoms2) Radiographic features3) Differential diagnosis\, including prevalence4) Dental management considering the medical history5) Additional Lab studies6) Management and prognosisObjectivesAfter this lecture\, the participant should be able to:Discuss steps in diagnosis and management of lesions with unusual clinical presentations. \n\n\n\nAbout the Speaker;\n\n\n\nDr. Narayana has been a professor in Oral pathology at UNMC\, Department of Oral Biology\, College of Dentistry since 2003. In addition to her training in India\, Nagamani is dually trained in Oral Medicine and Oral and Maxillofacial Pathology from UMKC\, School of Dentistry\, Kansas City\, and New York Hospital\, Queens. She obtained her DMD from Temple University School of Dentistry. She is a diplomate of the American Academy of Oral Medicine and the American Academy of Oral Pathology. Presently Nagamani teaches Oral Pathology and Oral Medicine at the school; in addition\, she sees patients in the University Dental Associates and is the director of the oral biopsy service of the UNMC College of Dentistry.
URL:https://oralpathology360.com/event/expecting-the-unexpected-a-day-at-the-office/
LOCATION:Online – Youtube Channel
CATEGORIES:Oral Pathology Tuesdays
ATTACH;FMTTYPE=image/png:https://oralpathology360.com/wp-content/uploads/2022/08/Thumbnail-9.png
END:VEVENT
BEGIN:VEVENT
DTSTART;TZID=Asia/Kolkata:20220816T110000
DTEND;TZID=Asia/Kolkata:20220816T120000
DTSTAMP:20260424T182246
CREATED:20220720T075710Z
LAST-MODIFIED:20221205T093648Z
UID:970-1660647600-1660651200@oralpathology360.com
SUMMARY:Rare Salivary Gland cancers
DESCRIPTION:A case-based discussion of some rare salivary gland neoplasms \n\n\n\n\nPresentation by Dr. Neda Kardooni \n\n\n\nAssistant professor of OMF pathology department\, Tehran University of Medical Sciences \n\n\n\n\n\n\nTime converter at worldtimebuddy.comTime converter at worldtimebuddy.com\n\n\n\n\n\n\n\n\n\nSalivary gland carcinomas represent a rare group of complex\, heterogenous histologies occurring in major and minor salivary glands with a wide range of etiology\, pathophysiology\, treatment\, and prognosis.  In this presentation\, we introduce three patients with uncommon salivary gland neoplasms\, their diagnostic challenges for the pathologists\, the main differential diagnosis\, the therapeutic modalities\, and their follow-up.  \n\n\n\nObjectives:  \n\n\n\n\nBased on the clinical presentation\, discuss the most likely differential for the patients.\n\n\n\nDistinguish the pathologic features of these malignant tumors from the others\n\n\n\nExplain the application of routine immunomarkers for diagnosis\, prognostication\, and therapeutic follow-up.\n\n\n\nManaging salivary gland masses with unusual presentation
URL:https://oralpathology360.com/event/rare-salivary-gland-cancers/
LOCATION:Online – Youtube Channel
CATEGORIES:Oral Pathology Tuesdays
ATTACH;FMTTYPE=image/png:https://oralpathology360.com/wp-content/uploads/2022/07/Thumbnail-4.png
END:VEVENT
BEGIN:VEVENT
DTSTART;TZID=Asia/Kolkata:20220809T110000
DTEND;TZID=Asia/Kolkata:20220809T114500
DTSTAMP:20260424T182246
CREATED:20220803T105744Z
LAST-MODIFIED:20221205T093723Z
UID:1230-1660042800-1660045500@oralpathology360.com
SUMMARY:A Student's Guide to Oral Cancer
DESCRIPTION:True Knowledge needs to be built from basics up. Build your oral cancer knowledge from the basic stuff \n\n\n\n“A student’s guide to Oral cancer will answer your fundamental questions.   \n\n\n\n\nDr. Mandana Donoghue \n\n\n\nFounder- Director Oral Pathology 360 \n\n\n\nFormer Prof & Head Dept of Oral & Maxillofacial pathology CODS\, Davagere  \n\n\n\nmandana@oralpathology360.com \n\n\n\n\nTime converter at worldtimebuddy.comTime converter at worldtimebuddy.com\n\n\n\n\n\n\n\nTrue Knowledge needs to be built from basics up. Build your oral cancer knowledge from the basic stuff \n\n\n\n“A student’s guide to Oral cancer will answer your fundamental questions.   \n\n\n\nEvery malignancy is a cancer\, then why does oral cancer refer to oral squamous cell carcinoma and no other malignant tumors? \n\n\n\nWhat are the 3 Ms of cancer? \n\n\n\nWhat are genetic hits? How many are necessary for cancer to begin? \n\n\n\nWhat are the risk factors for oral cancer? \n\n\n\nIs it always preventable? \n\n\n\nCan it be hereditary? \n\n\n\nLearning Objectives: \n\n\n\nBy the end of this lecture: the viewer will have a clear understanding of what is oral Cancer. \n\n\n\nAnd how does it develop? \n\n\n\nIn subsequent lectures\, we will look at how to diagnose\, treat and prevent oral cancer.
URL:https://oralpathology360.com/event/a-students-guide-to-oral-cancer/
CATEGORIES:Oral Pathology Tuesdays
ATTACH;FMTTYPE=image/png:https://oralpathology360.com/wp-content/uploads/2022/08/A-students-guide-to-oral-cancer.png
END:VEVENT
BEGIN:VEVENT
DTSTART;TZID=Asia/Kolkata:20220802T110000
DTEND;TZID=Asia/Kolkata:20220802T120000
DTSTAMP:20260424T182247
CREATED:20220718T061829Z
LAST-MODIFIED:20221205T093745Z
UID:942-1659438000-1659441600@oralpathology360.com
SUMMARY:Histopathologic Potpourri: A Medley of Cases
DESCRIPTION:Watch it on our channel https://youtu.be/nz1ceNm6CqQ \nTime converter at worldtimebuddy.com \nDr. Punnya Angadi Rao\, MDS\, DNB\, PG Dip (Bioethics)\, Ph.D\nProfessor and Head\nDepartment of Oral Pathology and Microbiology\nKLE VK Institute of Dental Sciences and Hospital \nOral pathology encompasses a wide variety of lesions\, including various cysts and tumors of different origins\, infections\, developmental\, skin\, and bone disorders\, as well as metabolic disturbances. The histopathologic diversity exhibited by these lesions enthralls us as one sees a wide variation among them from what is considered “Typical” as per textbook descriptions. This slide seminar will try to capture this essence of histopathologic examination and highlight the typical as well as deviations in a mixture of lesions with an aim to generate interest in the subject that lingers on just as the fragrance of a potpourri. \n 
URL:https://oralpathology360.com/event/histopathologic-potpourri-a-medley-of-cases/
CATEGORIES:Oral Pathology Tuesdays
ATTACH;FMTTYPE=image/png:https://oralpathology360.com/wp-content/uploads/2022/07/Thumbnail-Punnya.png
END:VEVENT
BEGIN:VEVENT
DTSTART;TZID=Asia/Kolkata:20220726T110000
DTEND;TZID=Asia/Kolkata:20220726T113000
DTSTAMP:20260424T182247
CREATED:20220718T065237Z
LAST-MODIFIED:20221205T093819Z
UID:958-1658833200-1658835000@oralpathology360.com
SUMMARY:Uncommon Fungal Infections of the Head & neck
DESCRIPTION:Yamely Ruiz Vázquez \nProfessor of  Oral Pathology\, Oral Medicine\, and Oral Biology\nSchool of Dentistry\nNational Autonomous University of Mexico (UNAM)
URL:https://oralpathology360.com/event/uncommon-fungal-infections-of-the-head-neck/
LOCATION:Online – Zoom meeting & Livestream to YouTube
CATEGORIES:Oral Pathology Tuesdays
ATTACH;FMTTYPE=image/png:https://oralpathology360.com/wp-content/uploads/2022/07/Uncommon-fungal-Infections-thumbnail.png
END:VEVENT
BEGIN:VEVENT
DTSTART;TZID=Asia/Kolkata:20220719T110000
DTEND;TZID=Asia/Kolkata:20220719T120000
DTSTAMP:20260424T182247
CREATED:20220715T045230Z
LAST-MODIFIED:20221205T093919Z
UID:922-1658228400-1658232000@oralpathology360.com
SUMMARY:Successful Career in Oral Pathology with Dr. Nagpal
DESCRIPTION:Building a successful career in Oral Pathology can be challenging. Join us this week when Dr. Bhuvan Nagpal will share -tips for success\, -insights into his journey\, and how he achieved his goals – Challenges\, and opportunities. \nJoin here- https://youtu.be/76IUxIFi7r8 \n \nDr. Bhuvan Nagpal\nBDS (Gold Medalist)\, MDS (OMFP)\, PGT (HNOP)\, MSc (Biochem.)\, MBA (HHM)\,  PGDMLS\, CLQMS\, LLB \nLab Director & Senior Consultant in Head & Neck Pathology and Clinical Biochemistry  at Tohana Manglam  Diagnostics\, Tohana\, the first & only NABL Accredited Medical Lab in District Fatehabad\, Haryana\, \nCAREER PROFILE \n\nA highly organized\, dedicated\, and experienced professional in the medical/dental field specializing in Oral & Maxillofacial Pathology\, Oral Microbiology\, and Clinical Biochemistry.\nSound knowledge of laboratory medicine with strong research acumen and excellent scientific writing skills.\nProviding efficient technical and administrative support\, thereby ensuring smooth operations to diagnostic laboratories.\nExtensive project management experience in establishing a new diagnostic center with pathological and radiological modalities.\nDemonstrated track record of successfully managing small to large projects from start to finish and ensuring timely project completion.\n\nDr. Nagpal on Linkedin \nDr. Nagpal’s website  https://drbhuvannagpal.com/
URL:https://oralpathology360.com/event/successful-career-in-oral-pathology/
LOCATION:Online – Zoom meeting & Livestream to YouTube
CATEGORIES:Oral Pathology Tuesdays
ATTACH;FMTTYPE=image/jpeg:https://oralpathology360.com/wp-content/uploads/2022/07/Untitled-design-1.jpg
END:VEVENT
END:VCALENDAR